BEGIN:VCALENDAR
VERSION:2.0
PRODID:icalendar-ruby
CALSCALE:GREGORIAN
METHOD:PUBLISH
BEGIN:VEVENT
DTSTAMP:20260424T202015Z
UID:184-1731390@transformtbay.com
DTSTART:20260605T110000Z
DTEND:20260605T120000Z
CLASS:PUBLIC
CREATED:20260424T150359
DESCRIPTION:Prayer Meeting every Friday at 7:00 AM in person at Transformat
 ion Church (Upstairs)
LAST-MODIFIED:20260424T150359
LOCATION:Transformation Church
SUMMARY:Prayer Group
URL;VALUE=URI:https://www.transformtbay.com/events/prayer-group/2026-06-05
END:VEVENT
END:VCALENDAR
