BEGIN:VCALENDAR
VERSION:2.0
PRODID:icalendar-ruby
CALSCALE:GREGORIAN
METHOD:PUBLISH
BEGIN:VEVENT
DTSTAMP:20260425T121658Z
UID:184-1734219@transformtbay.com
DTSTART:20260821T110000Z
DTEND:20260821T120000Z
CLASS:PUBLIC
CREATED:20260425T062955
DESCRIPTION:Prayer Meeting every Friday at 7:00 AM in person at Transformat
 ion Church (Upstairs)
LAST-MODIFIED:20260425T062955
LOCATION:Transformation Church
SUMMARY:Prayer Group
URL;VALUE=URI:https://www.transformtbay.com/events/prayer-group/2026-08-21
END:VEVENT
END:VCALENDAR
