BEGIN:VCALENDAR
VERSION:2.0
PRODID:icalendar-ruby
CALSCALE:GREGORIAN
METHOD:PUBLISH
BEGIN:VEVENT
DTSTAMP:20260425T150218Z
UID:184-1735161@transformtbay.com
DTSTART:20260904T110000Z
DTEND:20260904T120000Z
CLASS:PUBLIC
CREATED:20260425T091130
DESCRIPTION:Prayer Meeting every Friday at 7:00 AM in person at Transformat
 ion Church (Upstairs)
LAST-MODIFIED:20260425T091130
LOCATION:Transformation Church
SUMMARY:Prayer Group
URL;VALUE=URI:https://www.transformtbay.com/events/prayer-group/2026-09-04
END:VEVENT
END:VCALENDAR
