BEGIN:VCALENDAR
VERSION:2.0
PRODID:icalendar-ruby
CALSCALE:GREGORIAN
METHOD:PUBLISH
BEGIN:VEVENT
DTSTAMP:20260425T161915Z
UID:184-1736102@transformtbay.com
DTSTART:20260911T110000Z
DTEND:20260911T120000Z
CLASS:PUBLIC
CREATED:20260425T115202
DESCRIPTION:Prayer Meeting every Friday at 7:00 AM in person at Transformat
 ion Church (Upstairs)
LAST-MODIFIED:20260425T115202
LOCATION:Transformation Church
SUMMARY:Prayer Group
URL;VALUE=URI:https://www.transformtbay.com/events/prayer-group/2026-09-11
END:VEVENT
END:VCALENDAR
