BEGIN:VCALENDAR
VERSION:2.0
PRODID:icalendar-ruby
CALSCALE:GREGORIAN
METHOD:PUBLISH
BEGIN:VEVENT
DTSTAMP:20260425T205930Z
UID:184-1737045@transformtbay.com
DTSTART:20261002T110000Z
DTEND:20261002T120000Z
CLASS:PUBLIC
CREATED:20260425T143211
DESCRIPTION:Prayer Meeting every Friday at 7:00 AM in person at Transformat
 ion Church (Upstairs)
LAST-MODIFIED:20260425T143211
LOCATION:Transformation Church
SUMMARY:Prayer Group
URL;VALUE=URI:https://www.transformtbay.com/events/prayer-group/2026-10-02
END:VEVENT
END:VCALENDAR
